BEGIN:VCALENDAR
VERSION:2.0
PRODID:Events Booking
BEGIN:VEVENT
UID:69e81dae6f668
SUMMARY:Study Brunch Online Event(in English): Plan and Manage Project Comp
 liance by Osahon Idehen PMP on 15th April at 11 am CET
DESCRIPTION:Study Brunch Online Event(in English): Plan and Manage Project 
 Compliance by Osahon Idehen PMP on 15th April at 11 am CET
 Theme: Domain
  3 -(Business Environment PMBOK 7) - Plan and Manage Project Compliance
 
 Osahon Idehen\, PMP\, CInP\, an energetic young chemical engineer aspiring
  for innovations and growth opportunities in the energy sector and helping
  organization achieve set objectives with about a decade of experience in 
 the oil and gas industry working particularly in the downstream/refinery a
 nd petrochemical sector as an operator\, crude oil evaluation engineer and
  currently as innovation engineer high-performance products formulation an
 d testing. A team player with creativity\, integrity\, and a drive for exc
 ellence with sound project management skills. A PMI volunteer\, PMP Exam p
 ractice Question developer\, article writer on Project management magazine
 \, and an Agile Coach for PMI Lima Chapter (2021).I enjoy my work as an In
 novation engineer\, ready to learn more. Loves teaching\, games\, music an
 d social services.
DTSTART:20230415T090000Z
DTEND:20230415T100000Z
DTSTAMP:20230304T121458Z
ORGANIZER;CN=PMI Germany Chapter e.V.:MAILTO:website@pmi-gc.de
END:VEVENT
END:VCALENDAR