BEGIN:VCALENDAR
VERSION:2.0
PRODID:Events Booking
BEGIN:VEVENT
UID:69e81e55e360d
SUMMARY:Study Brunch Online Free Event in English for Portfolio Management 
 Professional (PfMP) by Adedamola Oladeinde on 22nd April at 11 am
DESCRIPTION:Study Brunch Online Free Event in English for Portfolio Managem
 ent Professional (PfMP)  by Ade Oladeinde on 22nd April at 11 am.
 Mr. 
 Adedamola Oladeinde\, is a professional engineer and project management pr
 ofessional with extensive experience within the Oil & Gas\, Mining\, Nucle
 ar\, IT\, and Manufacturing Industries. He is a member of the Association 
 of Professional Engineers\, Geologists and Geophysicists of Alberta\, Brit
 ish Columbia and Saskatchewan Provinces respectively\, member of PMI since
  2006\, and Certified Portfolio\, Program and Project Management Professio
 nal with PMI. Fellow Institute of Management Consultant.He has obtained hi
 s Bachelor of Science degree in Mechanical Engineering from Obafemi Awolow
 o University\, Ife\, Nigeria\, and an Executive Master of Business Adminis
 tration in 2016 from the Sandermoen School of Business\, University of Fre
 dericton\, Canada. He is happily married with three lovely children.
 Cer
 tification & License:Portfolio Management Professional (PfMP)Program Manag
 ement Professional (PgMP)Scrum Master Certified (SMC)Project Management Pr
 ofessional (PMP)Professional Engineer (P.Eng)Certified Management Consulta
 nts (CMC)Certified Maintenance and Reliability Professional (CMRP)Fellow I
 nstitute of Management Consultants (FIMC)Previous Volunteer Experience:
 
 PMI Global Summit 2023 – Proposals & Draft Presentation reviewer -2023Se
 nior Director\, Sponsorship – PMI San Diego Chapter–2022Chair\, Govern
 ance Committee\, Black Engineers of Canada (BEC) Board -2022Project Manage
 ment Instructor\, PM Study group – PMI Poland Chapter -2022Volunteer Boa
 rd Member (Director) APEGA Education Foundation. 2014-2016 SMRP National M
 embership Committee. 2014-2015Intramural soccer team member – Westview B
 aptist Church\, Calgary\, AB. 2014Usher – Westview Baptist Church\, Calg
 ary\, AB. 2011-2017Calgary Library Read Volunteer. 2013-2015
DTSTART:20230421T220000Z
DTEND:20230421T220000Z
DTSTAMP:20230416T062539Z
ORGANIZER;CN=PMI Germany Chapter e.V.:MAILTO:website@pmi-gc.de
END:VEVENT
END:VCALENDAR