BEGIN:VCALENDAR
VERSION:2.0
PRODID:Events Booking
BEGIN:VEVENT
UID:69e81e5618f07
SUMMARY:Study Brunch Online Free Event(in English) : Lead Team by Aaron Hao
 ua  on 1st April at  Sat at 11 am
DESCRIPTION:Study Brunch Online Free&nbsp\; Event(in English) : Lead Team b
 y Aaron Haoua on 1st April at Sat at 11 am
 He is working as an Associate
  Project Manager at adesso SE in Germany (Dortmund). He is working with la
 rge IT-Projects and Programs in a variety of business sectors. In his ever
 yday business he uses the whole Set of tools and techniques to bring our p
 rojects to success.He would like to pass on his knowledge avia PMI Chapter
  Germany! The PMI Community helped him a lot to professionalize my role as
  a project manager. That said\, He truly want to give something back and h
 elp to maintain and develop the PMI-CommunityThema from Domain 1 (People):
  Lead Team (Domian- 1 People of PMBOK 7)
DTSTART:20230401T090000Z
DTEND:20230401T100000Z
DTSTAMP:20230304T093738Z
ORGANIZER;CN=PMI Germany Chapter e.V.:MAILTO:website@pmi-gc.de
END:VEVENT
END:VCALENDAR