BEGIN:VCALENDAR
VERSION:2.0
PRODID:Events Booking
BEGIN:VEVENT
UID:69e7d8f63b9d5
SUMMARY:CAPM Study Brunch (with Iselie Iglesias) - Project management found
 ations
DESCRIPTION:You've done your PMP certification preparation course and are s
 itting in the silent room studying for your exam and you still have soooo 
 many questions? We - the PMI Germany Chapter - have the answers. True to o
 ur claim to provide a forum and platform for project management enthusiast
 s\, we are once again offering a video conference on one of the topics of 
 the PMBOK Guide\, in which your questions will be answered by an experienc
 ed moderator. This time the moderator is Iselie Iglesias\, the topic is CA
 PM - Project management foundations.
DTSTART:20230715T080000Z
DTEND:20230715T103000Z
DTSTAMP:20230220T105622Z
ORGANIZER;CN=PMI Germany Chapter e.V.:MAILTO:website@pmi-gc.de
END:VEVENT
END:VCALENDAR