BEGIN:VCALENDAR
VERSION:2.0
PRODID:Events Booking
BEGIN:VEVENT
UID:69e7845f378a3
SUMMARY:The Fragrance Revolution: Reinventing Corporate Identity
DESCRIPTION:Dear project managers\,
 LG Thuringia invites you to an event 
 on the topic “The Fragrance Revolution: Reinventing Corporate Identity!
 ”.Explore the fascinating world of scent marketing and learn how scents 
 can transform a brand into unforgettable experiences.
LOCATION:Albrechtsgarten 5\, Zella-Mehlis\, 98544 Thüringen\, Deutschland
DTSTART:20231116T170000Z
DTEND:20231116T190000Z
DTSTAMP:20231101T173630Z
ORGANIZER;CN=PMI Germany Chapter e.V.:MAILTO:website@pmi-gc.de
GEO:50.652376;10.662525
X-APPLE-STRUCTURED-LOCATION;VALUE=URI;X-ADDRESS=Albrechtsgarten 5\, Zella-M
 ehlis\, 98544 Thüringen\, Deutschland;X-APPLE-RADIUS=72;X-TITLE=:50.65237
 6;10.662525
END:VEVENT
END:VCALENDAR