BEGIN:VCALENDAR
VERSION:2.0
PRODID:Events Booking
BEGIN:VEVENT
UID:69e861d7034bd
SUMMARY:The Return of Process Groups - Process Groups: A Practice Guide
DESCRIPTION:The PMI (Project Management Institute) is bringing back the 49 
 PMBOK Guide processes.The new standard \"Process Groups: A Practice Guide\
 " has been published. It replaces the PMBOK Guide 6th Ed\, which is still 
 used in many companies\, but also for certification exams.It can be assume
 d that the new standard\, together with the PMBOK Guide 7th Ed. and the Ag
 ile Practice Guide\, will soon be the most important reference base for PM
 P and CAPM certification exams.
 
 In our free online event\, Oliver F. 
 Lehmann\, trainer and former president of the PMI Southern Germany Chapter
 \, Member of PMI germany chapter\, will present the new guide and talk abo
 ut its potential relevance for everyday project work\, but also for exam p
 reparation
DTSTART:20230118T180000Z
DTEND:20230118T190000Z
DTSTAMP:20221115T141116Z
ORGANIZER;CN=PMI Germany Chapter e.V.:MAILTO:website@pmi-gc.de
END:VEVENT
END:VCALENDAR