BEGIN:VCALENDAR
VERSION:2.0
PRODID:Events Booking
BEGIN:VEVENT
UID:69e77222a5dce
SUMMARY:Volunteer Event PMI Germany Chapter '23
DESCRIPTION:We want to thank you for the great volunteer work you have done
  and continue to do for the chapter\, and we want to give you guidance in 
 our community. Therefore we would like to invite you to our 3rd Germany-wi
 de virtual Volunteer Event on Monday\, 11.12.2023\, 7 to 9 pm.&nbsp\;
 &n
 bsp\;
 &nbsp\;
DTSTART:20231211T180000Z
DTEND:20231211T200000Z
DTSTAMP:20221020T095714Z
ORGANIZER;CN=PMI Germany Chapter e.V.:MAILTO:website@pmi-gc.de
END:VEVENT
END:VCALENDAR