BEGIN:VCALENDAR
VERSION:2.0
PRODID:Events Booking
BEGIN:VEVENT
UID:69e877a4f0227
SUMMARY:Volunteer Orientation
DESCRIPTION:Volunteer Orientation - Orientation for Volunteers\, Short info
  about Volunteering in PMI Germany Chapter\, about possibilities of engage
 ment in the chapter: Chapter Ressorts\, Circles\, CoPs.
DTSTART:20230124T170000Z
DTEND:20230124T180000Z
DTSTAMP:20230122T160224Z
ORGANIZER;CN=PMI Germany Chapter e.V.:MAILTO:website@pmi-gc.de
END:VEVENT
END:VCALENDAR