BEGIN:VCALENDAR
VERSION:2.0
PRODID:Events Booking
BEGIN:VEVENT
UID:69e8c9696e0d2
SUMMARY:Working out Loud (WOL) for a better project management
DESCRIPTION:Working out Loud (WOL) for better project management
 WOL is u
 nderstood as a tool to get out of silo thinking and also to build cross-fu
 nctional relationships of cooperation and to share knowledge\, but also to
  expand your mindset. WOL is used throughout the organization\, especially
  in agile collaboration\, because knowledge is consciously shared\, constr
 uctive feedback is desired and the work with the respective interim result
 s is made visible.
LOCATION:Besselstraße\, Berlin\, 10969\, Deutschland
DTSTART:20220823T170000Z
DTEND:20220823T190000Z
DTSTAMP:20220703T120910Z
ORGANIZER;CN=PMI Germany Chapter e.V.:MAILTO:website@pmi-gc.de
GEO:52.504775;13.393342
X-APPLE-STRUCTURED-LOCATION;VALUE=URI;X-ADDRESS=Besselstraße\, Berlin\, 10
 969\, Deutschland;X-APPLE-RADIUS=72;X-TITLE=:52.504775;13.393342
END:VEVENT
END:VCALENDAR