BEGIN:VCALENDAR
VERSION:2.0
PRODID:Events Booking
BEGIN:VEVENT
UID:69e664432f673
SUMMARY:Women@PMIGC: Connect & Inspire Kick Off - FEMP Relaunch
DESCRIPTION:„Connect &amp\; Inspire“ is the relaunch of the successful 
 Female Empowerment Programms (FEMP)
DTSTART:20251113T183000Z
DTEND:20251113T200000Z
DTSTAMP:20250904T163246Z
ORGANIZER;CN=PMI Germany Chapter e.V.:MAILTO:website@pmi-gc.de
END:VEVENT
END:VCALENDAR