BEGIN:VCALENDAR
VERSION:2.0
PRODID:Events Booking
BEGIN:VEVENT
UID:69e7ab8642f76
SUMMARY:PMI Chapter Xchange: Work Smarter Together - Project Management CoE
  or CoP
DESCRIPTION:
 
 
 PMI Chapter Xchange Event
 Working smarter together- 
 Project Management CoE or CoP?
 Collaboration allows us to know more than
  we are capable of knowing by ourselves.\" - Paul Solarz
 A community alw
 ays encourages the deeper exploration of ideas. While the acronym suggests
  CoE – Community of Experts and CoP – Community of Practitioners\, bot
 h are slated to provide platforms for collaborations
 Both platforms prov
 ide people with ways to organize and build on their ideas and expert knowl
 edge. 
 So what is more effective CoP or CoE?
 Does the nature of the pr
 oject detect the effectiveness of these platforms?
 Can these platforms i
 mprove the outcomes of our projects?
 Finally\, do we need such platforms
  in the world of AI?
 Join project leaders and managers from across the g
 lobe for a #pmichapterXchange collaborative event of 26-way collaboration 
 between the PMI Chapters of\; Mumbai\, Netherlands\, South Africa\, Sri La
 nka\, Phoenix\, New Zealand\, Zimbabwe\, Indonesia\, Gujarat\, Lima Peru\,
  Southern Alberta\, Sao Paulo\, Kenya\, Ghana\, Greece\, Puget Sound\, Pol
 and\, Alaska\, United Arab Emirates\, Bangladesh\, Nigeria\, Cameroon\, Ge
 rmany\, Luxembourg\, Turkiye and Madrid Spain while we explore Working sma
 rter together- Project Management CoE or CoP?
 Our supporting chapters ar
 e PMI Japan and PMI Jalisco\, Mexico
 Wait no more:
 Register to be part
  of this event on 
 Date: Sep 15\, 2023
 Time: 16:30 – 18:30 CEST
 Re
 gister below.
  
 When you register the time will be shown according to
  your local time zone.
 This event is open to both members and non-member
 s.
 
 
 
DTSTART:20230915T143000Z
DTEND:20230915T163000Z
DTSTAMP:20220519T160332Z
ORGANIZER;CN=PMI Germany Chapter e.V.:MAILTO:website@pmi-gc.de
END:VEVENT
END:VCALENDAR