BEGIN:VCALENDAR
VERSION:2.0
PRODID:Events Booking
BEGIN:VEVENT
UID:69e74a238bc7b
SUMMARY:XMAS-Event at MAMPE
DESCRIPTION:Welcome to the Christmas get-together at Mampe!
 The Mampe man
 ufactory is an old wheat beer brewery and thus an architectural and indust
 rial monument with an eventful history. Not only was brewing done here\, b
 ut furniture and cars were also traded. A magical place! Today it is a dis
 tillery\, glass factory and liquor store...Each guest dives into the histo
 ry of Mampe and takes part in the tour of the manufactory.
LOCATION:Am Tempelhofer Berg 6\, Berlin\, 10965\, Deutschland
DTSTART:20221206T160000Z
DTEND:20221206T173000Z
DTSTAMP:20221109T060002Z
ORGANIZER;CN=PMI Germany Chapter e.V.:MAILTO:website@pmi-gc.de
GEO:52.488839;13.387252
X-APPLE-STRUCTURED-LOCATION;VALUE=URI;X-ADDRESS=Am Tempelhofer Berg 6\, Ber
 lin\, 10965\, Deutschland;X-APPLE-RADIUS=72;X-TITLE=:52.488839;13.387252
END:VEVENT
END:VCALENDAR