BEGIN:VCALENDAR
VERSION:2.0
PRODID:Events Booking
BEGIN:VEVENT
UID:69e73a17447f8
SUMMARY:mistakes in thinking about multi project management
DESCRIPTION:We're thrilled about our new German-language webinar series tit
 led \"Multiprojektmanagement-Denkfehler.\"The first session\, \"Multiproje
 ktmanagement-Denkfehler: Wir müssen besser kommunizieren!\" was a success
 \, and for those who missed it\, the recording is already available on You
 Tube.&nbsp\;https://www.youtube.com/watch?v=V5TC93or9YADon’t miss the ne
 xt instalment on February 22\, focusing on the crucial topic of timely pro
 ject completion\, \"Multiprojektmanagement-Denkfehler: Um rechtzeitig fert
 ig zu werden\, müssen wir früher anfangen!\"
 Ensure your spot by booki
 ng your seat now.&nbsp\;https://xuviate.lt.acemlna.com/Prod/link-tracker?r
 edirectUrl=aHR0cHMlM0ElMkYlMkZ1czAyd2ViLnpvb20udXMlMkZ3ZWJpbmFyJTJGcmVnaXN
 0ZXIlMkY5MDE3MDY2NDQ4ODIyJTJGV05fVlhjNzFCeU5RNy1XdjMyMmhuX0Uzdw==&amp\;sig
 =HuYQxMgorWqbacuuWpBMaB5Zc9jjA9NiotG7D75wYA2M&amp\;iat=1707803979&amp\;a=%
 7C%7C89426634%7C%7C&amp\;account=xuviate%2Eactivehosted%2Ecom&amp\;email=T
 %2BS53YLgpW7R9n9Axjyl7ynwjCkCuaKYaKPPO1ZidLNCxcoV3FPvfQ%3D%3D%3AZBU2fyEj78
 nxdLj9eTSOK4uYcVgBAZPP&amp\;s=4f425fb7811cee16ed216a24e0e611fe&amp\;i=1156
 A1206A42A6554Join us for insightful discussions and learn how to enhance y
 our project management skills.
DTSTART:20240222T170000Z
DTEND:20240222T180000Z
DTSTAMP:20240215T160746Z
ORGANIZER;CN=PMI Germany Chapter e.V.:MAILTO:website@pmi-gc.de
END:VEVENT
END:VCALENDAR