BEGIN:VCALENDAR
VERSION:2.0
PRODID:Events Booking
BEGIN:VEVENT
UID:69e7a126c8573
SUMMARY:LG Berlin: Berliner Unterwelten Tour
DESCRIPTION:Wir tauchen ab.
 Die Local Group Berlin des PMI Germany Chapte
 rs lädt Sie ein zur Teilnahme an etwas ganz Besonderem.
 Eine Führung i
 n die Unterwelten von Berlin. Sie veranschaulicht Spuren des Kalten Kriege
 s im Untergrund. In Vorbereitung auf einen möglichen atomaren Konflikt wu
 rden im Westteil Berlins Bunkeranlagen für den Zivilschutz reaktiviert un
 d neue Schutzanlagen errichtet. Teilweise als »Mehrzweckanlagen« bezeich
 net\, benutzen wir diese heute als Parkgaragen\, U-Bahnhöfe oder Lagerrä
 ume. Der Rundgang führt die Schrecken und die Auswirkung eines möglichen
  Atomkrieges auf anschauliche Weise vor Augen.
 Teilnehmer: Wir heissen j
 eden ab 14 Jahre willkommen.
 
DTSTART:20241119T170000Z
DTEND:20241119T183000Z
DTSTAMP:20240908T064746Z
ORGANIZER;CN=PMI Germany Chapter e.V.:MAILTO:website@pmi-gc.de
END:VEVENT
END:VCALENDAR