BEGIN:VCALENDAR
VERSION:2.0
PRODID:Events Booking
BEGIN:VEVENT
UID:69e79a96ed407
SUMMARY:Sichtbar\, stark\, souverän: Charismatisch präsentieren – live 
 und online
DESCRIPTION:Die Local Group Berlin / Brandenburg lädt Sie ein zu einer Rei
 se mit dem Rampenpfau (Dr. Thomas A. Coucoulis)\, eindrucksvoller und nach
 haltiger Präsentationen zu halten und allen Stakeholder mit rhetorischen 
 Mitteln das Ziel des Projektes nahezu bringen.
 Dr. Thomas A. Coucoulis l
 ässt Sie in einem eintägigen Online-Workshop erfahren und üben wie durc
 h wirkungsvolle Präsentationen jeder versteht\, was Sie vermitteln wollen
  und jeder die Motivation erfährt mit Ihnen zusammenarbeiten zu wollen.
DTSTART:20250425T080000Z
DTEND:20250425T160000Z
DTSTAMP:20241204T133052Z
ORGANIZER;CN=PMI Germany Chapter e.V.:MAILTO:website@pmi-gc.de
END:VEVENT
END:VCALENDAR