BEGIN:VCALENDAR
VERSION:2.0
PRODID:Events Booking
BEGIN:VEVENT
UID:69e88c0660fcc
SUMMARY:Die Rückkehr der Prozessgruppen - Process Groups: A Practice Guide
DESCRIPTION:Das PMI (Project Management Institute) bringt die 49 PMBOK Guid
 e Prozesse zurück.
 Der neue Standard \"Process Groups: A Practice Guide
 \" ist erschienen. Er ersetzt den PMBOK Guide 6th Ed\, der in vielen Unter
 nehmen\, aber auch für die Zertifizierungsprüfungen noch weiter Verwendu
 ng findet.
 Man kann davon ausgehen\, dass der neue Standard schon bald z
 usammen mit dem PMBOK Guide 7th Ed. und dem Agile Practice Guide die wicht
 igste Referenzbasis von PMP- und CAPM-Zertifizierungsprüfung stellen wird
 .
 
 In unserer kostenlosen Online-Veranstaltung wird Oliver F. Lehmann\
 , Trainer und ehemaliger Präsident des PMI Southern Germany Chapters und 
 Mitglied des PMI Germany Chapters\, den neuen Guide vorstellen und über s
 eine mögliche Bedeutung für den Projektalltag\, aber auch die Prüfungsv
 orbereitung sprechen.
DTSTART:20221214T170000Z
DTEND:20221214T180000Z
DTSTAMP:20221115T141116Z
ORGANIZER;CN=PMI Germany Chapter e.V.:MAILTO:website@pmi-gc.de
END:VEVENT
END:VCALENDAR