BEGIN:VCALENDAR
VERSION:2.0
PRODID:Events Booking
BEGIN:VEVENT
UID:69e8414de1b46
SUMMARY:Afterwork im Hirschgarten (Biergarten)
DESCRIPTION:Wir laden Euch herzlich zum ersten Stammtisch der neuen Stammti
 sch Serie der Local Group München des PMI Germany Chapters und gleichzeit
 ig zum letzten Stammtisch vor der Sommerpause ein! Gerne würden wir uns m
 it Euch zum Einleuten der nahenden Sommerferien ganz ungezwungen im Bierga
 rten im Hirschgarten - dem weltweit größten Biergarten - auf ein kühles
  Bier oder anderes Getränk und einen Steckerlfisch oder ein anderes bayer
 isches Schmankerl treffen.
LOCATION:Hirschgartengarten 1\, 80639
DTSTART:20240723T160000Z
DTEND:20240723T183000Z
DTSTAMP:20240610T101547Z
ORGANIZER;CN=PMI Germany Chapter e.V.:MAILTO:website@pmi-gc.de
GEO:48.149986;11.511118
X-APPLE-STRUCTURED-LOCATION;VALUE=URI;X-ADDRESS=Hirschgartengarten 1\, 8063
 9;X-APPLE-RADIUS=72;X-TITLE=Hirschgarten:48.149986;11.511118
END:VEVENT
END:VCALENDAR