BEGIN:VCALENDAR
VERSION:2.0
PRODID:Events Booking
BEGIN:VEVENT
UID:69e5ebf99812b
SUMMARY:Local Group Bremen - Business Lunch
DESCRIPTION:Wir\, die Local Group Bremen\, laden zu einem Business Lunch ei
 n. Der Ort wird zentral in Bremen gesucht\, so das er schnell und gut für
  alle erreichbar ist. Wir freuen uns auf einen zwanglosen Austausch beim M
 ittagessen :)
 &nbsp\;
 Viele Grüße\,
 Florian Ardighieri
 Luisa Cri
 stini
DTSTART:20240216T110000Z
DTEND:20230216T120000Z
DTSTAMP:20231127T090010Z
ORGANIZER;CN=PMI Germany Chapter e.V.:MAILTO:website@pmi-gc.de
END:VEVENT
END:VCALENDAR