BEGIN:VCALENDAR
VERSION:2.0
PRODID:Events Booking
BEGIN:VEVENT
UID:69e6518bea8f8
SUMMARY:Willkommensstunde - PMI Germany Chapter - November 2025
DESCRIPTION:Willkommensstunde - PMI Germany Chapter - November 2025
DTSTART:20251118T180000Z
DTEND:20251118T190000Z
DTSTAMP:20220519T174641Z
ORGANIZER;CN=PMI Germany Chapter e.V.:MAILTO:website@pmi-gc.de
END:VEVENT
END:VCALENDAR